Workbook

Sheet 기업확인
B2: 청년 매칭 결과 확인
B3: ① 기업명 선택 후 선정 결과 확인바랍니다. (입력 시 자동으로 결과 값 확인 가능)
B4: ② 선정자 리스트 내 참여자 확인 후 출근 관련 내용 기업에서 직접 공지해주시면 됩니다.
B5: ※ 본인 기업을 [기업선택] 셀에서 선택 바랍니다.
B7: 기업명 | C7: 배정인원 | D7: 선정인원 | E7: 선정 | F7: 선정 | G7: 선정 | H7: 선정 | I7: 비고
B8: 기업 선택 | C8: =VLOOKUP($B$8,면접결과!$C$2:$J$39,2,FALSE) -> #N/A | D8: =VLOOKUP($B$8,면접결과!$C$2:$J$39,3,FALSE) -> #N/A | E8: =VLOOKUP($B$8,면접결과!$C$2:$J$39,4,FALSE) -> #N/A | F8: =VLOOKUP($B$8,면접결과!$C$2:$J$39,5,FALSE) -> #N/A | G8: =VLOOKUP($B$8,면접결과!$C$2:$J$39,6,FALSE) -> #N/A | H8: =VLOOKUP($B$8,면접결과!$C$2:$J$39,7,FALSE) -> #N/A | I8: =VLOOKUP($B$8,면접결과!$C$2:$J$39,8,FALSE) -> #N/A
B10: 선정자 리스트
B11: 선정자 이름 | C11: 생년월일 | D11: 휴대폰 | E11: 이메일
B12: =E8 -> #N/A | C12: =VLOOKUP($B12,참여자!$B$2:$E$93,2,FALSE) -> #N/A | D12: =VLOOKUP($B12,참여자!$B$2:$E$93,3,FALSE) -> #N/A | E12: =VLOOKUP($B12,참여자!$B$2:$E$93,4,FALSE) -> #N/A
B13: =F8 -> #N/A | C13: =VLOOKUP($B13,참여자!$B$2:$E$93,2,FALSE) -> #N/A | D13: =VLOOKUP($B13,참여자!$B$2:$E$93,3,FALSE) -> #N/A | E13: =VLOOKUP($B13,참여자!$B$2:$E$93,4,FALSE) -> #N/A
B14: =G8 -> #N/A | C14: =VLOOKUP($B14,참여자!$B$2:$E$93,2,FALSE) -> #N/A | D14: =VLOOKUP($B14,참여자!$B$2:$E$93,3,FALSE) -> #N/A | E14: =VLOOKUP($B14,참여자!$B$2:$E$93,4,FALSE) -> #N/A
B15: =H8 -> #N/A | C15: =VLOOKUP($B15,참여자!$B$2:$E$93,2,FALSE) -> #N/A | D15: =VLOOKUP($B15,참여자!$B$2:$E$93,3,FALSE) -> #N/A | E15: =VLOOKUP($B15,참여자!$B$2:$E$93,4,FALSE) -> #N/A

Sheet 면접결과
B2: 시군 | C2: 기업명 | D2: 배정인원 | E2: 선정인원 | F2: 선정 | G2: 선정 | H2: 선정 | I2: 선정 | J2: 비고
B3: =VLOOKUP($B3,[1]기업명단!$D$3:$Q$80,2,FALSE) -> 거제시 | C3: 깃듦협동조합 | D3: 1 | E3: 0 | J3: 추가모집
B4: =VLOOKUP($B4,[1]기업명단!$D$3:$Q$80,2,FALSE) -> 거제시 | C4: 옥명꽃마을협동조합 | D4: 1 | E4: 1 | F4: 권*지00 | J4: 완료
B5: =VLOOKUP($B5,[1]기업명단!$D$3:$Q$80,2,FALSE) -> 거창군 | C5: 거창공유농업사회적협동조합 | D5: 1 | E5: 1 | F5: 전*지02 | J5: 완료
B6: =VLOOKUP($B6,[1]기업명단!$D$3:$Q$80,2,FALSE) -> 김해시 | C6: 마음길사회적협동조합 | D6: 3 | E6: 3 | F6: 우*인98 | G6: 조*민93 | H6: 송*림93 | J6: 완료
B7: =VLOOKUP($B7,[1]기업명단!$D$3:$Q$80,2,FALSE) -> 남해군 | C7: 농업회사법인주식회사다랭이팜 | D7: 1 | E7: 1 | F7: 정*영97 | J7: 완료
B8: =VLOOKUP($B8,[1]기업명단!$D$3:$Q$80,2,FALSE) -> 산청군 | C8: (산청)누리협동조합 | D8: 2 | E8: 2 | F8: 박*수00 | G8: 박*우96 | J8: 완료
B9: =VLOOKUP($B9,[1]기업명단!$D$3:$Q$80,2,FALSE) -> 양산시 | C9: 미예림사회적협동조합 | D9: 1 | E9: 1 | F9: 이*주05 | J9: 완료
B10: =VLOOKUP($B10,[1]기업명단!$D$3:$Q$80,2,FALSE) -> 양산시 | C10: 양산로컬푸드협동조합 | D10: 2 | E10: 0 | J10: 추가모집
B11: =VLOOKUP($B11,[1]기업명단!$D$3:$Q$80,2,FALSE) -> 진주시 | C11: 사회적협동조합휴먼앤러브 | D11: 1 | E11: 1 | F11: 박*나90 | J11: 완료
B12: =VLOOKUP($B12,[1]기업명단!$D$3:$Q$80,2,FALSE) -> 창원시 | C12: 날개사회적협동조합 | D12: 2 | E12: 2 | F12: 권*국90 | G12: 김*애95 | J12: 완료
B13: =VLOOKUP($B13,[1]기업명단!$D$3:$Q$80,2,FALSE) -> 창원시 | C13: 더클사회적협동조합 | D13: 3 | E13: 0 | J13: 추가모집
B14: =VLOOKUP($B14,[1]기업명단!$D$3:$Q$80,2,FALSE) -> 창원시 | C14: 에스엔티(SNT)창의교육사회적협동조합 | D14: 3 | E14: 2 | F14: 김*은00 | G14: 이*혜92 | J14: 추가모집
B15: =VLOOKUP($B15,[1]기업명단!$D$3:$Q$80,2,FALSE) -> 함안군 | C15: 아라씨앗드리공동체영농조합법인 | D15: 1 | E15: 1 | F15: 정*엽97 | J15: 완료
B16: =VLOOKUP($B16,[1]기업명단!$D$3:$Q$80,2,FALSE) -> 함안군 | C16: 주식회사알리제 | D16: 2 | E16: 0 | J16: 추가모집
B17: =VLOOKUP($B17,[1]기업명단!$D$3:$Q$80,2,FALSE) -> 합천군 | C17: 삼산골푸드영농조합법인 | D17: 1 | E17: 1 | F17: 이*민03 | J17: 완료
B18: =VLOOKUP($B18,[1]기업명단!$D$3:$Q$80,2,FALSE) -> 합천군 | C18: 영농조합법인가호 | D18: 1 | E18: 1 | F18: 김*지03 | J18: 완료
B19: =VLOOKUP($B19,[1]기업명단!$D$3:$Q$80,2,FALSE) -> 거제시 | C19: 옥포행복마을관리사회적협동조합 | D19: 1 | E19: 1 | F19: 이*진91 | J19: 완료
B20: =VLOOKUP($B20,[1]기업명단!$D$3:$Q$80,2,FALSE) -> 고성군 | C20: 거류지역아동센터 | D20: 1 | E20: 1 | F20: 정*향02 | J20: 완료
B21: =VLOOKUP($B21,[1]기업명단!$D$3:$Q$80,2,FALSE) -> 김해시 | C21: 초록나눔사회적협동조합 | D21: 2 | E21: 0 | J21: 추가모집
B22: =VLOOKUP($B22,[1]기업명단!$D$3:$Q$80,2,FALSE) -> 사천시 | C22: 다시봄사회적협동조합 | D22: 2 | E22: 2 | F22: 김*훈99 | G22: 김*현03 | J22: 완료
B23: =VLOOKUP($B23,[1]기업명단!$D$3:$Q$80,2,FALSE) -> 양산시 | C23: 나눔과돌봄사회적협동조합 | D23: 2 | E23: 1 | F23: 박*울01 | J23: 추가모집
B24: =VLOOKUP($B24,[1]기업명단!$D$3:$Q$80,2,FALSE) -> 양산시 | C24: 양산공연문화예술협동조합 | D24: 4 | E24: 4 | F24: 김*우94 | G24: 박*란90 | H24: 서*000 | I24: 이*인00 | J24: 완료
B25: =VLOOKUP($B25,[1]기업명단!$D$3:$Q$80,2,FALSE) -> 양산시 | C25: 오름동행협동조합 | D25: 1 | E25: 0 | J25: 추가모집
B26: =VLOOKUP($B26,[1]기업명단!$D$3:$Q$80,2,FALSE) -> 의령군 | C26: 나루마을영농조합법인 | D26: 1 | E26: 1 | F26: 신*진87 | J26: 완료
B27: =VLOOKUP($B27,[1]기업명단!$D$3:$Q$80,2,FALSE) -> 진주시 | C27: 농업회사법인진양호힐링센터 | D27: 3 | E27: 1 | F27: 손*나03 | J27: 추가모집
B28: =VLOOKUP($B28,[1]기업명단!$D$3:$Q$80,2,FALSE) -> 창원시 | C28: 나그리고우리사회적협동조합 | D28: 2 | E28: 2 | F28: 오*훈99 | G28: 구*진00 | J28: 완료
B29: =VLOOKUP($B29,[1]기업명단!$D$3:$Q$80,2,FALSE) -> 창원시 | C29: 사회적협동조합경남이주여성상담소 | D29: 1 | E29: 1 | F29: 차*현02 | J29: 완료
B30: =VLOOKUP($B30,[1]기업명단!$D$3:$Q$80,2,FALSE) -> 창원시 | C30: 사회적협동조합보듬 | D30: 2 | E30: 1 | F30: 김*영00 | J30: 추가모집
B31: =VLOOKUP($B31,[1]기업명단!$D$3:$Q$80,2,FALSE) -> 창원시 | C31: 소통과대안협동조합 | D31: 2 | E31: 1 | F31: 윤*욱99 | J31: 추가모집
B32: =VLOOKUP($B32,[1]기업명단!$D$3:$Q$80,2,FALSE) -> 창원시 | C32: 시민의힘에너지협동조합 | D32: 1 | E32: 1 | F32: 김*환92 | J32: 완료
B33: =VLOOKUP($B33,[1]기업명단!$D$3:$Q$80,2,FALSE) -> 창원시 | C33: 아벤투라협동조합 | D33: 4 | E33: 4 | F33: 김*현97 | G33: 문*람01 | H33: 진*민97 | I33: 강*석05 | J33: 완료
B34: =VLOOKUP($B34,[1]기업명단!$D$3:$Q$80,2,FALSE) -> 창원시 | C34: 온길로지스사회적협동조합 | D34: 1 | E34: 0 | J34: 추가모집
B35: =VLOOKUP($B35,[1]기업명단!$D$3:$Q$80,2,FALSE) -> 창원시 | C35: 웅동지역아동센터 | D35: 1 | E35: 1 | F35: 이*나99 | J35: 완료
B36: =VLOOKUP($B36,[1]기업명단!$D$3:$Q$80,2,FALSE) -> 창원시 | C36: 은성사회적협동조합 | D36: 1 | E36: 1 | F36: 김*영97 | J36: 완료
B37: =VLOOKUP($B37,[1]기업명단!$D$3:$Q$80,2,FALSE) -> 창원시 | C37: 정현사회적협동조합 | D37: 3 | E37: 2 | F37: 김*윤94 | G37: 장*곤90 | J37: 추가모집
B38: =VLOOKUP($B38,[1]기업명단!$D$3:$Q$80,2,FALSE) -> 하동군 | C38: 하동주민공정여행놀루와협동조합 | D38: 1 | E38: 0 | J38: 추가모집
B39: =VLOOKUP($B39,[1]기업명단!$D$3:$Q$80,2,FALSE) -> 청년매니저 | C39: 행복유랑단협동조합 | D39: 3 | E39: 3 | F39: 김*희00 | G39: 김*연95 | H39: 이*서05 | J39: 완료

Sheet 참여자
B2: 이름 | C2: 생년월일 | D2: 휴대폰번호 | E2: 이메일
B3: 강지명 | C3: 950703-1 | D3: 010-4130-9703 | E3: rkdwlaud@naver.com
B4: 강창균 | C4: 010122-3 | D4: 010-4645-4310 | E4: zxcvbn0122@naver.com
B5: 강호석 | C5: 920120-1 | D5: 010-4620-5810 | E5: khs5523@naver.com
B6: 구나현 | C6: 900808-2 | D6: 010-9285-9079 | E6: gnh9088@naver.com
B7: 구은지 | C7: 880518-2 | D7: 010-2020-3471 | E7: tnswk6848@naver.com
B8: 구혜진 | C8: 000302-4 | D8: 010-2306-0945 | E8: koosiii@naver.com
B9: 김가영 | C9: 990617-2 | D9: 010-4242-5261 | E9: yultro.music@gmail.com
B10: 김다빈 | C10: 941220-2 | D10: 010-6603-1136 | E10: dabin5217@gmail.com
B11: 김다애 | C11: 880601-2 | D11: 010-2895-8688 | E11: catguragu@naver.com
B12: 김동호 | C12: 940302-1 | D12: 010-4708-4393 | E12: monamiaz@naver.com
B13: 김문경 | C13: 930312-2 | D13: 010-7663-4966 | E13: kkii0312@naver.com
... B93: 황지영 | C93: 031112-4 | D93: 010-9726-1313 | E93: azsxdc1256@naver.com
